BEGIN:VCALENDAR
VERSION:2.0
PRODID:-// - ECPv6.15.20//NONSGML v1.0//EN
CALSCALE:GREGORIAN
METHOD:PUBLISH
X-ORIGINAL-URL:https://coloradoinfo.com
X-WR-CALDESC:Events for 
REFRESH-INTERVAL;VALUE=DURATION:PT1H
X-Robots-Tag:noindex
X-PUBLISHED-TTL:PT1H
BEGIN:VTIMEZONE
TZID:America/Denver
BEGIN:DAYLIGHT
TZOFFSETFROM:-0700
TZOFFSETTO:-0600
TZNAME:MDT
DTSTART:20240310T090000
END:DAYLIGHT
BEGIN:STANDARD
TZOFFSETFROM:-0600
TZOFFSETTO:-0700
TZNAME:MST
DTSTART:20241103T080000
END:STANDARD
BEGIN:DAYLIGHT
TZOFFSETFROM:-0700
TZOFFSETTO:-0600
TZNAME:MDT
DTSTART:20250309T090000
END:DAYLIGHT
BEGIN:STANDARD
TZOFFSETFROM:-0600
TZOFFSETTO:-0700
TZNAME:MST
DTSTART:20251102T080000
END:STANDARD
BEGIN:DAYLIGHT
TZOFFSETFROM:-0700
TZOFFSETTO:-0600
TZNAME:MDT
DTSTART:20260308T090000
END:DAYLIGHT
BEGIN:STANDARD
TZOFFSETFROM:-0600
TZOFFSETTO:-0700
TZNAME:MST
DTSTART:20261101T080000
END:STANDARD
BEGIN:DAYLIGHT
TZOFFSETFROM:-0700
TZOFFSETTO:-0600
TZNAME:MDT
DTSTART:20270314T090000
END:DAYLIGHT
BEGIN:STANDARD
TZOFFSETFROM:-0600
TZOFFSETTO:-0700
TZNAME:MST
DTSTART:20271107T080000
END:STANDARD
END:VTIMEZONE
BEGIN:VEVENT
DTSTART;TZID=America/Denver:20260203T080000
DTEND;TZID=America/Denver:20260208T170000
DTSTAMP:20260422T055428
CREATED:20260205T171046Z
LAST-MODIFIED:20260205T181640Z
UID:17737-1770105600-1770570000@coloradoinfo.com
SUMMARY:Steamboat Winter Carnival
DESCRIPTION:The Winter Carnival celebration includes a variety of events that embrace Steamboat’s western heritage and highlight our tradition of winter sports. \nThis unique event includes everything from kids pulled on skis behind horses down a snow-covered main street\, to the Lighted Man at the Night Show Extravaganza whose battery-powered suit weighs 70 pounds. \nMention a parade and fireworks and people say that’s typical. Talk about adults on shovels being pulled down Mainstreet behind horses or skiers jumping through fiery hoops and people stop to listen. In Steamboat Springs we do things differently\, and with the oldest\, continuous Winter Carnival west of the Mississippi\, this event is certainly no different. \nThe Winter Carnival\, proudly hosted by the Steamboat Springs Winter Sports Club\, was founded as a way to help residents cope with cabin fever during the height of the Colorado winter season. \nThe event continues to this day as a way to celebrate winter; as a reason for neighbors to gather; and as an opportunity\, for everyone to experience a piece of Ski Town USA®’s history and tradition. \nhttps://www.steamboatchamber.com/events/annual-events/steamboat-winter-carnival/
URL:https://coloradoinfo.com/event/steamboat-winter-carnival-2026/
LOCATION:Steamboat Springs\, Steamboat Springs\, CO\, 80487\, United States
CATEGORIES:Festivals Fairs,Resort Festivals,Sports
ATTACH;FMTTYPE=image/jpeg:https://coloradoinfo.com/wp-content/uploads/2026/02/winter_carnival_fireworks_d9208849-c448-49e1-b4ad-db16899c77be.jpg
END:VEVENT
BEGIN:VEVENT
DTSTART;TZID=America/Denver:20260201T120000
DTEND;TZID=America/Denver:20260201T160000
DTSTAMP:20260422T055428
CREATED:20260110T011727Z
LAST-MODIFIED:20260110T011727Z
UID:17349-1769947200-1769961600@coloradoinfo.com
SUMMARY:Freedom Street Social Valentine’s Day Artisan Craft and Art Walk
DESCRIPTION:Celebrate Valentine’s Day weekend at Freedom Street Social with a fun and festive Artisan Craft & Art Walk. Join us for an afternoon of shopping\, eating\, and drinking while supporting local Colorado makers\, artists\, and small businesses. \nBrowse a curated selection of handmade goods\, unique gifts\, art\, jewelry\, and specialty items while enjoying delicious food\, drinks\, and the vibrant atmosphere of Freedom Street Social. This event is perfect for finding one-of-a-kind Valentine’s gifts\, enjoying a date day\, or spending time with friends and family. \nCome shop local\, grab a bite\, enjoy a drink\, and make a day of it. Admission is free and all ages are welcome. \nHosted by Elevate Vendor Events. \nVendors:  ElevateVendorEvents.com
URL:https://coloradoinfo.com/event/freedom-street-social-valentines-day-2026/
LOCATION:Freedom Street Social\, 15177 Candelas Pkwy\, Arvada\, CO\, 80007\, United States
CATEGORIES:Arts & Crafts,Festivals Fairs
ATTACH;FMTTYPE=image/png:https://coloradoinfo.com/wp-content/uploads/2026/01/Freedom-Street-6-e448ee14e003c1683a084dda3fbd9567.png
ORGANIZER;CN="Elevate Vendor Events":MAILTO:michele@elevatevendorevents.com
END:VEVENT
BEGIN:VEVENT
DTSTART;TZID=America/Denver:20260111T100000
DTEND;TZID=America/Denver:20260111T140000
DTSTAMP:20260422T055428
CREATED:20260110T010254Z
LAST-MODIFIED:20260110T010254Z
UID:17337-1768125600-1768140000@coloradoinfo.com
SUMMARY:Chicken N Pickle Second Sundays Artisan Craft and Art Walk
DESCRIPTION:Join us for Chicken N Pickle Second Sundays Artisan Craft & Art Walk\, a monthly outdoor market featuring local artisans\, makers\, and small businesses. \nStroll through a curated selection of handcrafted goods\, art\, gifts\, and unique finds while enjoying food\, drinks\, and the lively atmosphere of Chicken N Pickle. This family-friendly event is a great way to support local creators while spending a Sunday afternoon with friends. \nThe market takes place every second Sunday and is free to attend. Come shop local\, grab a bite\, and enjoy one of Thornton’s favorite gathering spots.
URL:https://coloradoinfo.com/event/chicken-n-pickle-second-sundays-2026/
LOCATION:Chicken N Pickle\, 14225 Lincoln St\, Thorton\, CO\, 80023\, United States
CATEGORIES:Arts & Crafts,Festivals Fairs
ATTACH;FMTTYPE=image/png:https://coloradoinfo.com/wp-content/uploads/2026/01/CHICKEN-N-PICKLE-HOLIDAY-SHOW-13-82239f1e725da58a8a34625e4efe5c21.png
END:VEVENT
BEGIN:VEVENT
DTSTART;TZID=America/Denver:20260110T120000
DTEND;TZID=America/Denver:20260110T160000
DTSTAMP:20260422T055428
CREATED:20260110T011140Z
LAST-MODIFIED:20260110T011140Z
UID:17339-1768046400-1768060800@coloradoinfo.com
SUMMARY:Parkway Food Hall Artisan Craft and Art Walk
DESCRIPTION:Join us for the Parkway Food Hall Artisan Craft & Art Walk\, a winter market featuring local artisans\, makers\, and small businesses. \nShop a curated selection of handmade goods\, art\, gifts\, and unique finds while enjoying great food and drinks from Parkway Food Hall. This family-friendly event is a perfect way to support local creators and spend a Saturday afternoon indoors. \nThe market is free to attend and takes place inside Parkway Food Hall. Come shop local\, grab a bite\, and enjoy a fun\, community-focused event in Longmont.
URL:https://coloradoinfo.com/event/parkway-food-hall-artisan-craft-art-2026/
LOCATION:Parkway Food Hall\, 700 Ken Pratt Blvd # 200\, Longmont\, CO\, 80501\, United States
CATEGORIES:Arts & Crafts,Festivals Fairs
ATTACH;FMTTYPE=image/png:https://coloradoinfo.com/wp-content/uploads/2026/01/Parkway-Food-Hall-5-25f8988409af2ea6bd16298f1d178366.png
END:VEVENT
BEGIN:VEVENT
DTSTART;TZID=America/Denver:20251206T110000
DTEND;TZID=America/Denver:20251207T160000
DTSTAMP:20260422T055428
CREATED:20251201T184055Z
LAST-MODIFIED:20251201T184055Z
UID:16796-1765018800-1765123200@coloradoinfo.com
SUMMARY:Homes for the Holidays
DESCRIPTION:Historic Boulder\, Inc. presents the 39th Annual Homes for the Holidays Tour in the Newlands Neighborhood. Through the years\, this enchanting experience has taken us through a selection of historical homes\, where creativity\, tradition\, and holiday spirit come together to create a truly magical atmosphere. Come explore the architectural gems\, exquisite craftsmanship\, and captivating stories that reside within Boulder’s historic homes.\nTour the private homes at your own pace\, learn about local history & architecture. enjoy the unique festive décor at each home while ushering in the holiday season. This year’s tour features six homes with varying styles and stories.
URL:https://coloradoinfo.com/event/homes-for-the-holidays-2025/
LOCATION:Boulder\, Boulder\, CO\, United States
CATEGORIES:Festivals Fairs,Holiday Festivals
ATTACH;FMTTYPE=image/jpeg:https://coloradoinfo.com/wp-content/uploads/2025/11/OI2fUZhkbECGKmt_WheyNQ.large_-0d2e65bef99533ee41b612a6e47f73d2.jpg
END:VEVENT
BEGIN:VEVENT
DTSTART;TZID=America/Denver:20251205T160000
DTEND;TZID=America/Denver:20251206T200000
DTSTAMP:20260422T055428
CREATED:20251201T183740Z
LAST-MODIFIED:20251201T183740Z
UID:16762-1764950400-1765051200@coloradoinfo.com
SUMMARY:Sundance 2025 Short Film Tours
DESCRIPTION:SUNDANCE SHORT FILM TOURS\nCottonwood Center for the Arts\nTwo days:  Friday Dec 5th and Saturday Dec 6th\nMultiple screenings\nTickets and more info:  https://ifsoc-sundance.eventive.org/\n\nSundance shorts tour trailer:  https://www.youtube.com/watch?v=Xg5P3_BHP0A\nIndigenous Shorts Tour trailer:  https://www.youtube.com/watch?v=6PkF1aZYxiY\n\n\nDETAILS:\nJoin us in downtown Colorado Springs in the Cottonwood Center for the Arts 2nd floor theater for either one or both of these amazing collections of short films. Each Tour has 7 short films from recent Sundance Film Festivals. Multiple screenings First Friday Dec 5th and also on Saturday Dec 6th. And we’ll have popcorn!\nMore details\, film guide and ticket info: https://ifsoc-sundance.eventive.org/\n\nSUNDANCE SHORTS TOUR\nThe 2025 Sundance Film Festival Short Film Tour\, is a dynamic showcase of seven standout short films from this year’s Festival\, including two Festival Award–winning titles. This tour presents a special opportunity to discover a collection of fiction\, nonfiction\, and animated shorts brimming with humor\, emotion\, inspiration\, and unforgettable characters\, representing truly bold independent storytelling.\n\nSUNDANCE INDIGENOUS FILM TOUR\nThe selection curated by the Institute’s Indigenous Program team reflects a multiplicity of Indigenous perspectives\, showcasing inventive storytelling from Indigenous artists who have previously screened their projects at the Festival. One of the shorts in this year’s selection (Tiger) won the Short Film Special Jury Award for Directing at the 2025 Sundance Film Festival.
URL:https://coloradoinfo.com/event/sundance-2025-short-film-tours-2025/
LOCATION:Cottonwood Center for the Arts\, 427 E Colorado Ave\, Colorado springs\, CO\, 80903\, United States
CATEGORIES:Festivals Fairs,Film
ATTACH;FMTTYPE=image/png:https://coloradoinfo.com/wp-content/uploads/2025/11/banner-04-d0650906fb2d70ea1b3a746d6799d326.png
END:VEVENT
BEGIN:VEVENT
DTSTART;TZID=America/Denver:20251129T100000
DTEND;TZID=America/Denver:20251213T160000
DTSTAMP:20260422T055428
CREATED:20251201T183058Z
LAST-MODIFIED:20251201T183058Z
UID:16787-1764410400-1765641600@coloradoinfo.com
SUMMARY:KALEIDOSCOPE HOLIDAY ART MARKET and OPEN STUDIOS
DESCRIPTION:Celebrate the season at Kaleidoscope! \n  \nWed\, November 29 | December 6 & 13  \n10:00AM-4:00 PM \n  \nJoin us for a few festive weekends of art\, community\, and creativity at the Kaleidoscope Holiday Market & Open Studios. Explore a curated collection of handmade gifts\, original artwork\, and locally crafted treasures — perfect for thoughtful\, one-of-a-kind holiday giving. \n  \nMeet the artists\, wander through open studios\, and experience the warmth and wonder of Lafayette’s creative community. Come get inspired as you shop small and support local makers. \n  \nFree admission | Family-friendly | Shop small\, give art
URL:https://coloradoinfo.com/event/kaleidoscope-holiday-art-market-2025-2/
LOCATION:Kaleidoscope\, 209 East Simpson Street\, Layfayette\, CO\, 80026\, United States
CATEGORIES:Holiday Festivals,Arts & Crafts,Festivals Fairs,Free
ATTACH;FMTTYPE=image/jpeg:https://coloradoinfo.com/wp-content/uploads/2025/11/KS_HolidayMarket2025_CoInfoV2-679caf43dcd65915cdc751d74ab870a8-scaled.jpg
END:VEVENT
BEGIN:VEVENT
DTSTART;TZID=America/Denver:20251115T080000
DTEND;TZID=America/Denver:20251115T140000
DTSTAMP:20260422T055428
CREATED:20251114T230636Z
LAST-MODIFIED:20251114T230636Z
UID:16755-1763193600-1763215200@coloradoinfo.com
SUMMARY:Bad Ass Boulder Bash
DESCRIPTION:Join us next Saturday from 8AM to 2PM for the Bad Ass Boulder Bash\, a celebration of all things Boulder. Enjoy a day filled with fun\, flavors\, and community activities for everyone.\nWe’ll have special discounts on your favorite Bad Ass Coffee drinks & merch\, a pop-up from Aloha Delights featuring delicious treats\, and a Club Pilates Pop-Up class on our lanai with stunning views of the Flatirons. Spaces for the Pilates class are limited\, so be sure to register in advance here: https://www.eventbrite.com/e/1957312687939?aff=oddtdtcreator.\nThere will also be games\, prizes\, and surprises throughout the day. Bring your friends\, enjoy the festivities\, and celebrate the vibrant spirit of Boulder with us.
URL:https://coloradoinfo.com/event/bad-ass-boulder-bash-2025/
LOCATION:Boulder\, Boulder\, CO\, United States
CATEGORIES:Community,Festivals Fairs,Holiday Festivals
ATTACH;FMTTYPE=image/jpeg:https://coloradoinfo.com/wp-content/uploads/2025/11/GW_42OJ5OEi0k2xCq47bQQ.large_-8c08ee35ef330dd94a50e151675a5a3a.jpg
END:VEVENT
BEGIN:VEVENT
DTSTART;TZID=America/Denver:20251107T160000
DTEND;TZID=America/Denver:20251107T200000
DTSTAMP:20260422T055428
CREATED:20251031T221239Z
LAST-MODIFIED:20251031T221239Z
UID:16575-1762531200-1762545600@coloradoinfo.com
SUMMARY:First Friday Makers Market
DESCRIPTION:Lex Local Events Brings First Friday Makers Markets to Downtown Longmont\nJoin us for the First Friday Makers Market on November 7th from 4–8pm at the Elks Lodge\, 306 Coffman Street in Longmont.\nThis is more than just a market—it’s a celebration of the creativity and talent within our community. Skip the big-box stores and discover something special from the people who make Longmont unique.\nYou’ll find handcrafted\, one-of-a-kind gifts\, perfect for early holiday shopping and supporting local artists\, makers\, and small business owners. When you shop local\, your money stays local—helping your neighbors\, strengthening our community\, and keeping creativity thriving right here at home.\nCome be part of it. Shop early\, shop local\, and make this holiday season truly meaningful!
URL:https://coloradoinfo.com/event/first-friday-makers-market-2025/
LOCATION:Elks Lodge\, 306 Coffman Street\, Longmont\, CO\, 80501\, United States
CATEGORIES:Arts & Crafts,Festivals Fairs
ATTACH;FMTTYPE=image/jpeg:https://coloradoinfo.com/wp-content/uploads/2025/10/VbTOG30AC02aim0SjibU4Q.large_-1951d6fc4414635495460e0bfa36a216.jpg
END:VEVENT
BEGIN:VEVENT
DTSTART;TZID=America/Denver:20251107T080000
DTEND;TZID=America/Denver:20251116T170000
DTSTAMP:20260422T055428
CREATED:20251029T193839Z
LAST-MODIFIED:20251029T193839Z
UID:16591-1762502400-1763312400@coloradoinfo.com
SUMMARY:Denver Arts Week
DESCRIPTION:Denver Arts Week\nDenver Arts Week celebrates the Mile High City’s arts and culture scene with hundreds of events around the city. Denver Arts Week will kick off with expanded First Friday Art Walks across the city’s creative neighborhoods\, followed by FREE Night at the Museums on Saturday\, Nov. 8\, when many of Denver’s top cultural institutions will be open for free. \n\nArt & Well-Being\nFrom meditative sound journey’s to finding patterns in nature\, Denver Arts Week incorporates events that celebrate the connection between arts and personal wellness.
URL:https://coloradoinfo.com/event/denver-arts-week-2025/
LOCATION:Denver Performing Arts\, 1400 Curtis Street\, Denver\, Colorado
CATEGORIES:Arts & Crafts,Community,Festivals Fairs
ATTACH;FMTTYPE=image/jpeg:https://coloradoinfo.com/wp-content/uploads/2025/10/Logo_H_Background_small_b1df7c73-f3e3-4a14-bd19-763485f23c53.jpg
END:VEVENT
END:VCALENDAR