BEGIN:VCALENDAR
VERSION:2.0
PRODID:-// - ECPv6.15.20//NONSGML v1.0//EN
CALSCALE:GREGORIAN
METHOD:PUBLISH
X-ORIGINAL-URL:https://coloradoinfo.com
X-WR-CALDESC:Events for 
REFRESH-INTERVAL;VALUE=DURATION:PT1H
X-Robots-Tag:noindex
X-PUBLISHED-TTL:PT1H
BEGIN:VTIMEZONE
TZID:America/Denver
BEGIN:DAYLIGHT
TZOFFSETFROM:-0700
TZOFFSETTO:-0600
TZNAME:MDT
DTSTART:20250309T090000
END:DAYLIGHT
BEGIN:STANDARD
TZOFFSETFROM:-0600
TZOFFSETTO:-0700
TZNAME:MST
DTSTART:20251102T080000
END:STANDARD
BEGIN:DAYLIGHT
TZOFFSETFROM:-0700
TZOFFSETTO:-0600
TZNAME:MDT
DTSTART:20260308T090000
END:DAYLIGHT
BEGIN:STANDARD
TZOFFSETFROM:-0600
TZOFFSETTO:-0700
TZNAME:MST
DTSTART:20261101T080000
END:STANDARD
BEGIN:DAYLIGHT
TZOFFSETFROM:-0700
TZOFFSETTO:-0600
TZNAME:MDT
DTSTART:20270314T090000
END:DAYLIGHT
BEGIN:STANDARD
TZOFFSETFROM:-0600
TZOFFSETTO:-0700
TZNAME:MST
DTSTART:20271107T080000
END:STANDARD
END:VTIMEZONE
BEGIN:VEVENT
DTSTART;TZID=America/Denver:20260221T190000
DTEND;TZID=America/Denver:20260516T230000
DTSTAMP:20260422T055321
CREATED:20260219T002912Z
LAST-MODIFIED:20260219T003300Z
UID:17979-1771700400-1778972400@coloradoinfo.com
SUMMARY:There’s An Ape For That – Live at 100 Nickel
DESCRIPTION:**FREE SHOW** \nThere’s An Ape for That \nThe only thing the ape loves more than music…is sharing music with humans. the ape dj’s using only vinyl records. as the ape finishes with each record\, it is given away to one of the humans in attendance for them to take home. there is no need to go to machines for entertainment. there’s an ape for that. \nGenre: Vinyl Record Spinning \nEvery Third Saturday \n100 Nickel St.\nBroomfield\, CO \nSingle General Admission (GA) Ticket\nSHOW ENTRY IS FREE and open to the public. All paid donations go directly towards supporting the artists. Standing room only along the concourse of the venue. Food and Drink service is available self-service from the bar area. Bowling is available for purchase on a first come\, first served basis day of show. Special concert bowling pricing is unlimited bowling for the duration of the show for $15.45 + shoe rental. Full restaurant service available. \n  \nWhen you reserve your ticket in advance for one of our donation based concerts\, you get your choice of a free Odell Brewing Co. draft beer\, soda\, or basket of fries. Show your ticket reservation to your bartender to redeem your free item! Only valid with ticket reservation in advance\, limit one deal per person.\nTicket Link: https://chipperslanes.thundertix.com/events/259435
URL:https://coloradoinfo.com/event/theres-an-ape-for-that-live-at-100-nickel/
LOCATION:Chipper’s 100 Nickel\, 100 Nickel ST.\, Broomfield\, 80020\, United States
CATEGORIES:Concerts,Free
ATTACH;FMTTYPE=image/jpeg:https://coloradoinfo.com/wp-content/uploads/2026/02/banner-a24256aae0151e5217004e76fed810c4.jpg
END:VEVENT
BEGIN:VEVENT
DTSTART;TZID=America/Denver:20260301T163000
DTEND;TZID=America/Denver:20260301T183000
DTSTAMP:20260422T055321
CREATED:20251016T163058Z
LAST-MODIFIED:20251016T163058Z
UID:16266-1772382600-1772389800@coloradoinfo.com
SUMMARY:Modern Music Ensemble
DESCRIPTION:In the Modern Music Ensemble\, participants explore recently-written repertoire while developing entrepreneurship skills required of the 21st-century musician. Group sizes can range from duos to larger chamber ensembles. Repertoire varies from the 20th century to today\, including electronic and electro-acoustic music.
URL:https://coloradoinfo.com/event/modern-music-ensemble-2026/
LOCATION:The Newman Center for the Preforming Arts\, 2344 East Iliff\, Denver\, CO\, 80208\, United States
CATEGORIES:Concerts
ATTACH;FMTTYPE=image/jpeg:https://coloradoinfo.com/wp-content/uploads/2025/10/Modern-Music-Ensemble-9672f9944f37e55c668c04a346100f8b.jpg
END:VEVENT
BEGIN:VEVENT
DTSTART;TZID=America/Denver:20260304T193000
DTEND;TZID=America/Denver:20260304T213000
DTSTAMP:20260422T055321
CREATED:20251016T163316Z
LAST-MODIFIED:20251016T163316Z
UID:16268-1772652600-1772659800@coloradoinfo.com
SUMMARY:Lamont Symphony Orchestra and Choirs
DESCRIPTION:The Lamont Symphony Orchestra and Choirs join forces for their annual collaborative concert\, presenting Brahms’ Ein deutsches Requiem. Conducted by Catherine Sailer\, this masterwork offers solace and reflection through soaring melodies and lush orchestration. Performed by the full forces of Lamont’s talented vocalists and instrumentalists\, the Requiem promises a powerful celebration of life\, loss\, and hope.
URL:https://coloradoinfo.com/event/lamont-symphony-orchestra-choirs-2026/
LOCATION:The Newman Center for the Preforming Arts\, 2344 East Iliff\, Denver\, CO\, 80208\, United States
CATEGORIES:Concerts
ATTACH;FMTTYPE=image/jpeg:https://coloradoinfo.com/wp-content/uploads/2025/10/LSO-eef15add725c95fe4ba666c4556c6fe8.jpg
END:VEVENT
BEGIN:VEVENT
DTSTART;TZID=America/Denver:20260304T203000
DTEND;TZID=America/Denver:20260304T230000
DTSTAMP:20260422T055321
CREATED:20260217T172645Z
LAST-MODIFIED:20260217T172645Z
UID:17922-1772656200-1772665200@coloradoinfo.com
SUMMARY:Blast N Bowl w/ JOLO\, modrn\, & I Don’t Mind. Hosted by Chelsea Beth
DESCRIPTION:Genre: Indie \n830 N College Ave.\nFort Collins\, CO \nSingle General Admission (GA) Ticket \nSHOW ENTRY IS FREE and open to the public. All paid donations go directly towards supporting the artists. Standing room only along the concourse of the venue. Food and Drink service is available self-service from the bar area. Bowling is available for purchase on a first come\, first served basis day of show. Special concert bowling pricing is unlimited bowling for the duration of the show for $15.45 + shoe rental. Full restaurant service available. \nWhen you reserve your ticket in advance for one of our donation based concerts\, you get your choice of a free Odell Brewing Co. draft beer\, soda\, or basket of fries. Show your ticket reservation to your bartender to redeem your free item! Only valid with ticket reservation in advance\, limit one deal per person. \n 
URL:https://coloradoinfo.com/event/blast-n-bowl-w-jolo-modrn-2026/
LOCATION:Chipper’s Lanes\, 830 N College Ave.\, Fort Collins\, CO\, 80524\, United States
CATEGORIES:Concerts,Free
ATTACH;FMTTYPE=image/jpeg:https://coloradoinfo.com/wp-content/uploads/2026/02/Blast-N-Bowl-b4be91b3bf2618eeb98f4d638b87da63.jpg
END:VEVENT
BEGIN:VEVENT
DTSTART;TZID=America/Denver:20260305T193000
DTEND;TZID=America/Denver:20260305T213000
DTSTAMP:20260422T055321
CREATED:20251017T161605Z
LAST-MODIFIED:20251017T161605Z
UID:16353-1772739000-1772746200@coloradoinfo.com
SUMMARY:Wind Chamber Ensembles
DESCRIPTION:Hear from Lamont’s finest players in the flute\, oboe\, clarinet\, bassoon\, and saxophone studios. Under the direction of Martin Kuuskmann.
URL:https://coloradoinfo.com/event/wind-chamber-ensembles-2026/
LOCATION:The Newman Center for the Preforming Arts\, 2344 East Iliff\, Denver\, CO\, 80208\, United States
CATEGORIES:Concerts
ATTACH;FMTTYPE=image/jpeg:https://coloradoinfo.com/wp-content/uploads/2025/10/Wind-Chamber-Ensembles-952887a50f10025168c4e3484565703f.jpg
END:VEVENT
BEGIN:VEVENT
DTSTART;TZID=America/Denver:20260307T163000
DTEND;TZID=America/Denver:20260307T183000
DTSTAMP:20260422T055321
CREATED:20251017T161809Z
LAST-MODIFIED:20251017T161809Z
UID:16355-1772901000-1772908200@coloradoinfo.com
SUMMARY:Bluegrass Ensemble
DESCRIPTION:The Lamont Bluegrass Ensemble brings the energy and spirit of Americana music to the stage with their signature blend of tradition and innovation. From driving rhythms to soulful harmonies\, the ensemble showcases the roots of bluegrass while highlighting the creativity of Lamont’s talented student musicians. This lively performance promises foot-tapping tunes and heartfelt moments that celebrate the enduring power of American folk music.
URL:https://coloradoinfo.com/event/bluegrass-ensemble-2026/
LOCATION:The Newman Center for the Preforming Arts\, 2344 East Iliff\, Denver\, CO\, 80208\, United States
CATEGORIES:Concerts
ATTACH;FMTTYPE=image/jpeg:https://coloradoinfo.com/wp-content/uploads/2025/10/Bluegrass-Ensemble-ae752a072ff47cb6a019210712d88eba.jpeg
END:VEVENT
BEGIN:VEVENT
DTSTART;TZID=America/Denver:20260307T193000
DTEND;TZID=America/Denver:20260307T213000
DTSTAMP:20260422T055321
CREATED:20251021T162016Z
LAST-MODIFIED:20251021T162016Z
UID:16366-1772911800-1772919000@coloradoinfo.com
SUMMARY:String Chamber Ensembles
DESCRIPTION:Hear from Lamont’s finest players in the violin\, viola\, cello\, and double bass studios. Under the direction of Igor Pikayzen.
URL:https://coloradoinfo.com/event/string-chamber-ensembles-2026/
LOCATION:The Newman Center for the Preforming Arts\, 2344 East Iliff\, Denver\, CO\, 80208\, United States
CATEGORIES:Concerts
ATTACH;FMTTYPE=image/jpeg:https://coloradoinfo.com/wp-content/uploads/2025/10/String-Chamber-Ensembles-1-91e517e52a7eafed331495c17d73aea4.jpg
END:VEVENT
BEGIN:VEVENT
DTSTART;TZID=America/Denver:20260307T200000
DTEND;TZID=America/Denver:20260307T220000
DTSTAMP:20260422T055321
CREATED:20260204T194335Z
LAST-MODIFIED:20260204T194335Z
UID:17721-1772913600-1772920800@coloradoinfo.com
SUMMARY:All Your Friends
DESCRIPTION:An indie dance party for the ones who still romanticize a scratched iPod\, American Spirits\, and a blurry night soundtracked by bloghouse and post-punk revival. All Your Friends is at The Black Sheep on March 7\, 2026\, bringing the sweat\, synths\, and nostalgia of the early 2010’s house party. \nThis is your basement-floor flashback to tight jeans\, smudged eyeliner\, and nights that felt like a house show turned afterparty. Expect a high-energy dance floor fueled by indie sleaze classics and remixes you forgot you loved\, from LCD Soundsystem and The Rapture to Foals\, Yeah Yeah Yeahs\, TV on the Radio\, MGMT\, Crystal Castles\, and more. No frills\, just bodies in motion. \nWhether you never left the Lower East Side or just miss the chaos of that era\, All Your Friends is a night dedicated to bad decisions\, blown speakers\, and the soundtrack of your favorite forgotten memories. Come ready for the sweat\, the noise\, and the party your Tumblr warned you about at The Black Sheep.
URL:https://coloradoinfo.com/event/all-your-friends-2006/
LOCATION:Black Sheep\, 2106 E. Platte Ave\, Colorado Springs\, CO\, 80909\, United States
CATEGORIES:Concerts
ATTACH;FMTTYPE=image/jpeg:https://coloradoinfo.com/wp-content/uploads/2026/02/132022-All-Your-Friends-5b6b42e9ab33982cda10f4f4e0cd0400.jpg
END:VEVENT
BEGIN:VEVENT
DTSTART;TZID=America/Denver:20260308T163000
DTEND;TZID=America/Denver:20260308T183000
DTSTAMP:20260422T055321
CREATED:20251021T162331Z
LAST-MODIFIED:20251021T162331Z
UID:16368-1772987400-1772994600@coloradoinfo.com
SUMMARY:Vocal Jazz Groups: Vocal Collective\, The Vocal Syndicate\, and Resonance
DESCRIPTION:Vocal Jazz and Popular Music Ensembles are under the direction of Tatiana Mayfield Brown. \nVocal Spectrum is comprised of several solo vocal soloists with a rhythm section. \nVocal Syndicate is an elite group of three to four vocalists backed by a rhythm section who write and arrange all of their own music. \nResonance group focuses on repertoire from the rhythm & blues genre.
URL:https://coloradoinfo.com/event/vocal-jazz-groups-vocal-collective-2026/
LOCATION:The Newman Center for the Preforming Arts\, 2344 East Iliff\, Denver\, CO\, 80208\, United States
CATEGORIES:Concerts
ATTACH;FMTTYPE=image/jpeg:https://coloradoinfo.com/wp-content/uploads/2025/10/All-jazz-events-except-LJO-1-569816f837bcc072d57b78e90e318570.jpg
END:VEVENT
BEGIN:VEVENT
DTSTART;TZID=America/Denver:20260308T193000
DTEND;TZID=America/Denver:20260308T213000
DTSTAMP:20260422T055321
CREATED:20251021T162626Z
LAST-MODIFIED:20251021T162626Z
UID:16370-1772998200-1773005400@coloradoinfo.com
SUMMARY:Lamont Composers Concert Series
DESCRIPTION:The Lamont Composers Concert Series (LCCS) is a quarterly concert featuring new compositions by graduate and undergraduate students. All composition majors are invited to submit acoustic\, electronic or electro-acoustic works for the LCCS each quarter. As all LCCS concerts are recorded\, our compositions students are able to develop their craft while they build their portfolio.
URL:https://coloradoinfo.com/event/lamont-composers-concert-series-2026/
LOCATION:The Newman Center for the Preforming Arts\, 2344 East Iliff\, Denver\, CO\, 80208\, United States
CATEGORIES:Concerts
ATTACH;FMTTYPE=image/jpeg:https://coloradoinfo.com/wp-content/uploads/2025/10/Lamont-Composers-Concert-Series-954d30c80633f1b1dafbb21cb11572fa.jpg
END:VEVENT
BEGIN:VEVENT
DTSTART;TZID=America/Denver:20260308T203000
DTEND;TZID=America/Denver:20260308T230000
DTSTAMP:20260422T055321
CREATED:20260217T173008Z
LAST-MODIFIED:20260217T173008Z
UID:17924-1773001800-1773010800@coloradoinfo.com
SUMMARY:Blast N Bowl w/ Remedies\, Pseudocrush\, Gadget Cats\, & Boy Sorority: 2nd Sundays
DESCRIPTION:Genre: Indie \n830 N College Ave.\nFort Collins\, CO \nSingle General Admission (GA) Ticket \nSHOW ENTRY IS FREE and open to the public. All paid donations go directly towards supporting the artists. Standing room only along the concourse of the venue. Food and Drink service is available self-service from the bar area. Bowling is available for purchase on a first come\, first served basis day of show. Special concert bowling pricing is unlimited bowling for the duration of the show for $15.45 + shoe rental. Full restaurant service available. \nWhen you reserve your ticket in advance for one of our donation based concerts\, you get your choice of a free Odell Brewing Co. draft beer\, soda\, or basket of fries. Show your ticket reservation to your bartender to redeem your free item! Only valid with ticket reservation in advance\, limit one deal per person. \n 
URL:https://coloradoinfo.com/event/blast-n-bowl-w-remedies-pseudocrush-2026/
LOCATION:Chipper’s Lanes\, 830 N College Ave.\, Fort Collins\, CO\, 80524\, United States
CATEGORIES:Concerts,Free
ATTACH;FMTTYPE=image/jpeg:https://coloradoinfo.com/wp-content/uploads/2026/02/Pseudocrush-acdd761d04adc338d859708b719fb346.jpg
END:VEVENT
BEGIN:VEVENT
DTSTART;TZID=America/Denver:20260309T193000
DTEND;TZID=America/Denver:20260309T213000
DTSTAMP:20260422T055321
CREATED:20251025T000456Z
LAST-MODIFIED:20251025T000456Z
UID:16460-1773084600-1773091800@coloradoinfo.com
SUMMARY:Steel Drum Ensemble
DESCRIPTION:Music from the Caribbean and beyond.
URL:https://coloradoinfo.com/event/steel-drum-ensemble-2025-2/
LOCATION:The Newman Center for the Preforming Arts\, 2344 East Iliff\, Denver\, CO\, 80208\, United States
CATEGORIES:Concerts
ATTACH;FMTTYPE=image/jpeg:https://coloradoinfo.com/wp-content/uploads/2025/10/Steel-Drum-Ensemble-9c427450007c44bc3220c8c429679075.jpg
END:VEVENT
BEGIN:VEVENT
DTSTART;TZID=America/Denver:20260311T193000
DTEND;TZID=America/Denver:20260311T213000
DTSTAMP:20260422T055321
CREATED:20251025T000658Z
LAST-MODIFIED:20251025T000658Z
UID:16462-1773257400-1773264600@coloradoinfo.com
SUMMARY:Lamont Wind Ensemble
DESCRIPTION:The Lamont Wind Ensemble spotlights the energy and innovation of contemporary music in “Modern Movements.” From the driving rhythms of Michael Gandolfi’s Flourishes and Meditations to the sultry grooves of John Mackey’s Strange Humors—performed with guest artists Denver Dance—this program pulses with vitality. Bassoon virtuoso and Lamont professor Martin Kuuskman takes center stage in Nico Muhly’s dynamic concerto Reliable Sources. Joining forces with the Denver School of the Arts Wind Ensemble\, this concert is both a celebration of modern compositional voices and an inspiring collaboration across generations.
URL:https://coloradoinfo.com/event/lamont-wind-ensemble-2026-2/
LOCATION:The Newman Center for the Preforming Arts\, 2344 East Iliff\, Denver\, CO\, 80208\, United States
CATEGORIES:Concerts
ATTACH;FMTTYPE=image/jpeg:https://coloradoinfo.com/wp-content/uploads/2025/10/Lamont-Wind-Ensemble-1-f9c6e01976b5676f4d80bc718a94850f.jpg
END:VEVENT
BEGIN:VEVENT
DTSTART;TZID=America/Denver:20260312T193000
DTEND;TZID=America/Denver:20260312T213000
DTSTAMP:20260422T055321
CREATED:20251025T000901Z
LAST-MODIFIED:20251025T000901Z
UID:16464-1773343800-1773351000@coloradoinfo.com
SUMMARY:Classical Guitar Ensembles
DESCRIPTION:Ensembles vary in size from duos to octets\, and we especially emphasize collaboration with singers and other instrumentalists. The groups cover music from the Renaissance to the present day.
URL:https://coloradoinfo.com/event/classical-guitar-ensembles-2026/
LOCATION:The Newman Center for the Preforming Arts\, 2344 East Iliff\, Denver\, CO\, 80208\, United States
CATEGORIES:Concerts
ATTACH;FMTTYPE=image/jpeg:https://coloradoinfo.com/wp-content/uploads/2025/10/Classical-Guitar-Ensembles-acbe157fcd9d4fff85bbf6dd164ef894.jpg
END:VEVENT
BEGIN:VEVENT
DTSTART;TZID=America/Denver:20260313T200000
DTEND;TZID=America/Denver:20260313T233000
DTSTAMP:20260422T055321
CREATED:20260212T170444Z
LAST-MODIFIED:20260212T170444Z
UID:17875-1773432000-1773444600@coloradoinfo.com
SUMMARY:Perfect Giddimani with Special Guests TBA
DESCRIPTION:Perfect Giddimani with Special Guests TBA \n“Live on the Lanes” at 100 Nickel \nGenre: Reggae \n100 Nickel St.\nBroomfield\, CO \nSingle General Admission (GA) Ticket\n$20 Advance\n$25 Day of show \nStanding room only along the concourse of the venue. Food and drink service is available self-service from the bar area. Bowling is available for purchase on a first come\, first served basis day of show. Special concert bowling is unlimited bowling for the duration of the show for $15.45 + shoe rental. Ticket reservation required. Full restaurant service available. \nAbout the Artist\nMr. Giddimani has been a powerhouse in the industry for over two decades\, known for his signature “Roots & Culture” energy and lyrical precision \n 
URL:https://coloradoinfo.com/event/perfect-giddimani-with-special-guests-tba/
LOCATION:Chipper’s Lanes\, 830 N College Ave.\, Fort Collins\, CO\, 80524\, United States
CATEGORIES:Concerts
ATTACH;FMTTYPE=image/jpeg:https://coloradoinfo.com/wp-content/uploads/2026/02/Perfect-Giddimani-with-Special-Guests-TBA-4597924acca9f74e54ebb5ecf2e9ba18.jpg
END:VEVENT
BEGIN:VEVENT
DTSTART;TZID=America/Denver:20260314T200000
DTEND;TZID=America/Denver:20260314T230000
DTSTAMP:20260422T055321
CREATED:20260217T173348Z
LAST-MODIFIED:20260217T173348Z
UID:17926-1773518400-1773529200@coloradoinfo.com
SUMMARY:Perfect Giddimani w/ Live Band @ 830 North
DESCRIPTION:“Live on the Lanes” at 830 North \nGenre: [GENRE] \n830 N College Ave.\nFort Collins\, CO \nSingle General Admission (GA) Ticket \nStanding room only along the concourse of the venue. Food and drink service is available self-service from the bar area. Bowling is available for purchase on a first come\, first served basis day of show. Special concert bowling is unlimited bowling for the duration of the show for $15.45 + shoe rental. Ticket reservation required. Full restaurant service available.
URL:https://coloradoinfo.com/event/perfect-giddimani-830-north-2026/
LOCATION:Chipper’s Lanes\, 830 N College Ave.\, Fort Collins\, CO\, 80524\, United States
CATEGORIES:Concerts
ATTACH;FMTTYPE=image/jpeg:https://coloradoinfo.com/wp-content/uploads/2026/02/Perfect-Giddimani-2c318e5e23833c3871bcbf7eb6751ca4.jpg
END:VEVENT
BEGIN:VEVENT
DTSTART;TZID=America/Denver:20260320T190000
DTEND;TZID=America/Denver:20260320T210000
DTSTAMP:20260422T055321
CREATED:20260303T180523Z
LAST-MODIFIED:20260303T180551Z
UID:18184-1774033200-1774040400@coloradoinfo.com
SUMMARY:Gilly and the Girl
DESCRIPTION:The Fremont County Community Concert Association is thrilled to present its fourth concert of the 2025-2026 musical season.  Husband/wife duo Gilly and the Girl will be performing their “Raised on Radio” show celebrating the radio hits of the 60s-80s. The performance will be held at 7 p.m.\, Friday\, March 20th\, in the Steeple Event Center\, 701 Macon Avenue\, Canon City. \nGilly and the Girl is a captivating contemporary acoustic duo from central Florida\, featuring the heartfelt harmonies and infectious chemistry of husband-and-wife team Mike and Charity Gill. With Mike on guitar and vocals and Charity on lead vocals and hand percussion\, they deliver a warm\, engaging sound that blends modern acoustic flair with timeless classics. Drawing inspiration from musical legends like James Taylor\, The Beatles\, Whitney Houston\, Jim Croce and Patsy Cline\, Gilly and the Girl promise an eclectic\, feel-good musical experience that resonates with every audience. \nWith a repertoire that spans genres and eras\, they bring a unique blend of timeless classics and contemporary hits\, ensuring there’s something for everyone.  Charity has a musical career spanning decades and showcased her vocal prowess as “Elphaba” in the production of “Wicked” at Universal Studios\, Japan.  Mike is a seasoned actor with over 10 years’ experience in more than 30 productions. \nTickets are available only at the door for $25.  Students 19 and under accompanied by a season member will receive complimentary admission. FCCCA season ticket holders also benefit from free admission to performances of the Arkansas Valley Concert Association in La Junta\, the Southeastern Colorado Concert Association in Lamar and the Raton Arts & Humanities Council in Raton\, N.M. \nFor more information regarding FCCCA and its concert season\, visit http://fremontcountyconcerts.com\, or call Marty at 719-275-5950.  Gilly and The Girl’s website is www.gillyandthegirl.com.  Visit both websites for audio and visual performances.  Come early to get a good seat.
URL:https://coloradoinfo.com/event/gilly-and-the-girl-2026/
LOCATION:Steeple Event Center\, 701 Macon Ave\, Cañon City\, CO\, 81212\, United States
CATEGORIES:Concerts,Theatre
ATTACH;FMTTYPE=image/jpeg:https://coloradoinfo.com/wp-content/uploads/2026/03/Gilly-the-Girl-2-48aaad848c6c6b3e8589c05a8d1126a1.jpg
END:VEVENT
BEGIN:VEVENT
DTSTART;TZID=America/Denver:20260322T160000
DTEND;TZID=America/Denver:20260322T173000
DTSTAMP:20260422T055321
CREATED:20260313T193430Z
LAST-MODIFIED:20260313T193430Z
UID:18320-1774195200-1774200600@coloradoinfo.com
SUMMARY:Mozart Symphony 39 & CPE Bach Flute Concerto
DESCRIPTION:Boulder Symphony presents Mozart & Michael\, a beautiful and intimate evening of live orchestral music featuring Mozart’s radiant Symphony No. 39\, C.P.E. Bach’s dramatic Flute Concerto in D minor with Boulder Symphony Principal Flute Michael Williams\, Sibelius’ haunting Valse triste\, and Afterlight\, a moving new work by composer-in-residence John Clay Allen. Welcoming and accessible for longtime classical music lovers and first-time concertgoers alike.
URL:https://coloradoinfo.com/event/mozart-symphony-39-2026/
LOCATION:Grace Commons\, 1820 15th Street\,\, Boulder\, CO\, 80302\, United States
CATEGORIES:Concerts
ATTACH;FMTTYPE=image/jpeg:https://coloradoinfo.com/wp-content/uploads/2026/03/K9hBnqEO1UqPDYWz1nlKRw.large_-d5afbe563984ab00d1ef5eeafbbdba18.jpg
END:VEVENT
BEGIN:VEVENT
DTSTART;TZID=America/Denver:20260327T203000
DTEND;TZID=America/Denver:20260327T233000
DTSTAMP:20260422T055321
CREATED:20260212T170801Z
LAST-MODIFIED:20260212T170801Z
UID:17877-1774643400-1774654200@coloradoinfo.com
SUMMARY:Tejon Street Corner Thieves / Yes Ma’am / Little Foot
DESCRIPTION:Tejon Street Corner Thieves / Yes Ma’am / Little Foot \n“Live on the Lanes” at 830 North \nGenre: Outlaw alt grass \n830 N College Ave.\nFort Collins\, CO \nStanding room only along the concourse of the venue. Food and drink service is available self-service from the bar area. Bowling is available for purchase on a first come\, first served basis day of show. Special concert bowling is unlimited bowling for the duration of the show for $15.45 + shoe rental. Ticket reservation required. Full restaurant service available. \n 
URL:https://coloradoinfo.com/event/tejon-street-corner-thieves-yes-maam-little-foot/
LOCATION:Chipper’s Lanes\, 830 N College Ave.\, Fort Collins\, CO\, 80524\, United States
CATEGORIES:Concerts
ATTACH;FMTTYPE=image/jpeg:https://coloradoinfo.com/wp-content/uploads/2026/02/Tejon-Street-Corner-Thieves-f4a24ebed5e58c32332a33d1442f931f.jpg
END:VEVENT
END:VCALENDAR