BEGIN:VCALENDAR
VERSION:2.0
PRODID:-// - ECPv6.15.20//NONSGML v1.0//EN
CALSCALE:GREGORIAN
METHOD:PUBLISH
X-ORIGINAL-URL:https://coloradoinfo.com
X-WR-CALDESC:Events for 
REFRESH-INTERVAL;VALUE=DURATION:PT1H
X-Robots-Tag:noindex
X-PUBLISHED-TTL:PT1H
BEGIN:VTIMEZONE
TZID:America/Denver
BEGIN:DAYLIGHT
TZOFFSETFROM:-0700
TZOFFSETTO:-0600
TZNAME:MDT
DTSTART:20250309T090000
END:DAYLIGHT
BEGIN:STANDARD
TZOFFSETFROM:-0600
TZOFFSETTO:-0700
TZNAME:MST
DTSTART:20251102T080000
END:STANDARD
BEGIN:DAYLIGHT
TZOFFSETFROM:-0700
TZOFFSETTO:-0600
TZNAME:MDT
DTSTART:20260308T090000
END:DAYLIGHT
BEGIN:STANDARD
TZOFFSETFROM:-0600
TZOFFSETTO:-0700
TZNAME:MST
DTSTART:20261101T080000
END:STANDARD
BEGIN:DAYLIGHT
TZOFFSETFROM:-0700
TZOFFSETTO:-0600
TZNAME:MDT
DTSTART:20270314T090000
END:DAYLIGHT
BEGIN:STANDARD
TZOFFSETFROM:-0600
TZOFFSETTO:-0700
TZNAME:MST
DTSTART:20271107T080000
END:STANDARD
END:VTIMEZONE
BEGIN:VEVENT
DTSTART;TZID=America/Denver:20260221T190000
DTEND;TZID=America/Denver:20260516T230000
DTSTAMP:20260420T040118
CREATED:20260219T002912Z
LAST-MODIFIED:20260219T003300Z
UID:17979-1771700400-1778972400@coloradoinfo.com
SUMMARY:There’s An Ape For That – Live at 100 Nickel
DESCRIPTION:**FREE SHOW** \nThere’s An Ape for That \nThe only thing the ape loves more than music…is sharing music with humans. the ape dj’s using only vinyl records. as the ape finishes with each record\, it is given away to one of the humans in attendance for them to take home. there is no need to go to machines for entertainment. there’s an ape for that. \nGenre: Vinyl Record Spinning \nEvery Third Saturday \n100 Nickel St.\nBroomfield\, CO \nSingle General Admission (GA) Ticket\nSHOW ENTRY IS FREE and open to the public. All paid donations go directly towards supporting the artists. Standing room only along the concourse of the venue. Food and Drink service is available self-service from the bar area. Bowling is available for purchase on a first come\, first served basis day of show. Special concert bowling pricing is unlimited bowling for the duration of the show for $15.45 + shoe rental. Full restaurant service available. \n  \nWhen you reserve your ticket in advance for one of our donation based concerts\, you get your choice of a free Odell Brewing Co. draft beer\, soda\, or basket of fries. Show your ticket reservation to your bartender to redeem your free item! Only valid with ticket reservation in advance\, limit one deal per person.\nTicket Link: https://chipperslanes.thundertix.com/events/259435
URL:https://coloradoinfo.com/event/theres-an-ape-for-that-live-at-100-nickel/
LOCATION:Chipper’s 100 Nickel\, 100 Nickel ST.\, Broomfield\, 80020\, United States
CATEGORIES:Concerts,Free
ATTACH;FMTTYPE=image/jpeg:https://coloradoinfo.com/wp-content/uploads/2026/02/banner-a24256aae0151e5217004e76fed810c4.jpg
END:VEVENT
BEGIN:VEVENT
DTSTART;TZID=America/Denver:20260502T110000
DTEND;TZID=America/Denver:20260503T130000
DTSTAMP:20260420T040118
CREATED:20260320T180012Z
LAST-MODIFIED:20260320T180012Z
UID:18412-1777719600-1777813200@coloradoinfo.com
SUMMARY:School Of Rock Boulder
DESCRIPTION:**FREE SHOW** \nGenre: Rock \n100 Nickel St.\nBroomfield\, CO \nSingle General Admission (GA) Ticket \nSHOW ENTRY IS FREE and open to the public. All paid donations go directly towards supporting the artists. Standing room only along the concourse of the venue. Food and Drink service is available self-service from the bar area. Bowling is available for purchase on a first come\, first served basis day of show. Special concert bowling pricing is unlimited bowling for the duration of the show for $15.45 + shoe rental. Full restaurant service available. \nWhen you reserve your ticket in advance for one of our donation based concerts\, you get your choice of a free Odell Brewing Co. draft beer\, soda\, or basket of fries. Show your ticket reservation to your bartender to redeem your free item! Only valid with ticket reservation in advance\, limit one deal per person.
URL:https://coloradoinfo.com/event/school-of-rock-boulder-2026/
LOCATION:Chipper’s 100 Nickel\, 100 Nickel ST.\, Broomfield\, 80020\, United States
CATEGORIES:Concerts,Free
ATTACH;FMTTYPE=image/jpeg:https://coloradoinfo.com/wp-content/uploads/2026/03/134237-School-Of-Rock-Boulder-e675d1e0bed23d83aea553c300ff9786.jpg
END:VEVENT
BEGIN:VEVENT
DTSTART;TZID=America/Denver:20260502T203000
DTEND;TZID=America/Denver:20260502T220000
DTSTAMP:20260420T040118
CREATED:20260414T171452Z
LAST-MODIFIED:20260414T171452Z
UID:18843-1777753800-1777759200@coloradoinfo.com
SUMMARY:Blues Behind Bars Fundraiser
DESCRIPTION:Blues Behind Bars Fundraiser!\nBlues Behind Bars is both a band and a non-profit organization. Starting in 2009 BBB began playing concerts in Colorado prisons\, has toured the Nebraska prisons system and written many songs with inmates. Our mission is to build bridges through the arts\, we want to bring life enrichment through art that is entertaining and inspiring. We are about to beginning digital distribution to prisons all across the United States. Check us out on YouTube and please join us on May 2 as we perform songs written behind bars along with some of the classic Blues that shaped American pop music!\n“Live on the Lanes” at 830 North\n830 N College Ave Fort Collins\, CO 80524\nDoors 8PM & Show 8PM\nGeneral Admission\nStanding room only along the concourse of the venue. Food and Drink service is available self-service from the bar area. Bowling is available for purchase on a first come\, first served basis day of show. Special concert bowling pricing is unlimited bowling for the duration of the show for $15.45 + shoe rental. Full restaurant service available.\nWhen you reserve your ticket in advance for one of our donation based concerts\, you get your choice of a free Odell Brewing Co. draft beer\, soda\, or basket of fries. Show your ticket reservation to your bartender to redeem your free item! Only valid with ticket reservation in advance\, limit one deal per person
URL:https://coloradoinfo.com/event/blues-behind-bars-fundraiser-2026/
LOCATION:Chipper’s Lanes\, 830 N College Ave.\, Fort Collins\, CO\, 80524\, United States
CATEGORIES:Community,Concerts
ATTACH;FMTTYPE=image/jpeg:https://coloradoinfo.com/wp-content/uploads/2026/04/140899-Blues-Behind-Bars-Fundraiser-ae2c658f554c15ab73e9d822eb5eb6e4.jpg
END:VEVENT
END:VCALENDAR